Workbook

Sheet Abrechnung
A1: Reisekostenabrechnung 2026
A2: Gelbe Felder ausfüllen. Ort und Art je Tag aus der Liste wählen, gestellte Mahlzeiten mit „x“ markieren. Alles andere rechnet die Tabelle.
A4: Name
A5: Firma / Abteilung
A6: Reiseziel
A7: Reisezweck
A8: Abreise (Datum, Uhrzeit)
A9: Rückkehr (Datum, Uhrzeit)
A11: Tage
A12: Datum | B12: Ort (Liste) | C12: Art des Tages (Liste) | D12: Frühstück gestellt (x) | E12: Mittag gestellt (x) | F12: Abend gestellt (x) | G12: Übernachtung pauschal (x) | H12: Satz 24 Std. | I12: Satz An-/Abreise | J12: Pauschale | K12: Kürzung Mahlzeiten | L12: Verpflegung | M12: Übernachtung
A13: =DATE(2026,11,16) | B13: China – Peking | C13: Anreisetag | G13: x | H13: =IF($B13="","",INDEX('Pauschalen 2026'!$D$2:$D$216,MATCH($B13,'Pauschalen 2026'!$A$2:$A$216,0))) | I13: =IF($B13="","",INDEX('Pauschalen 2026'!$E$2:$E$216,MATCH($B13,'Pauschalen 2026'!$A$2:$A$216,0))) | J13: =IF(OR($B13="",$C13=""),0,IF($C13="voller Tag (24 Std.)",H13,IF(OR($C13="Anreisetag",$C13="Rückreisetag",$C13="eintägig über 8 Std."),I13,0))) | K13: =IF(J13=0,0,MIN(J13,(LOWER(D13)="x")*0.2*H13+(LOWER(E13)="x")*0.4*H13+(LOWER(F13)="x")*0.4*H13)) | L13: =J13-K13 | M13: =IF(OR($B13="",LOWER(G13)<>"x",$C13="privat (Bleisure)"),0,INDEX('Pauschalen 2026'!$F$2:$F$216,MATCH($B13,'Pauschalen 2026'!$A$2:$A$216,0)))
H14: =IF($B14="","",INDEX('Pauschalen 2026'!$D$2:$D$216,MATCH($B14,'Pauschalen 2026'!$A$2:$A$216,0))) | I14: =IF($B14="","",INDEX('Pauschalen 2026'!$E$2:$E$216,MATCH($B14,'Pauschalen 2026'!$A$2:$A$216,0))) | J14: =IF(OR($B14="",$C14=""),0,IF($C14="voller Tag (24 Std.)",H14,IF(OR($C14="Anreisetag",$C14="Rückreisetag",$C14="eintägig über 8 Std."),I14,0))) | K14: =IF(J14=0,0,MIN(J14,(LOWER(D14)="x")*0.2*H14+(LOWER(E14)="x")*0.4*H14+(LOWER(F14)="x")*0.4*H14)) | L14: =J14-K14 | M14: =IF(OR($B14="",LOWER(G14)<>"x",$C14="privat (Bleisure)"),0,INDEX('Pauschalen 2026'!$F$2:$F$216,MATCH($B14,'Pauschalen 2026'!$A$2:$A$216,0)))
H15: =IF($B15="","",INDEX('Pauschalen 2026'!$D$2:$D$216,MATCH($B15,'Pauschalen 2026'!$A$2:$A$216,0))) | I15: =IF($B15="","",INDEX('Pauschalen 2026'!$E$2:$E$216,MATCH($B15,'Pauschalen 2026'!$A$2:$A$216,0))) | J15: =IF(OR($B15="",$C15=""),0,IF($C15="voller Tag (24 Std.)",H15,IF(OR($C15="Anreisetag",$C15="Rückreisetag",$C15="eintägig über 8 Std."),I15,0))) | K15: =IF(J15=0,0,MIN(J15,(LOWER(D15)="x")*0.2*H15+(LOWER(E15)="x")*0.4*H15+(LOWER(F15)="x")*0.4*H15)) | L15: =J15-K15 | M15: =IF(OR($B15="",LOWER(G15)<>"x",$C15="privat (Bleisure)"),0,INDEX('Pauschalen 2026'!$F$2:$F$216,MATCH($B15,'Pauschalen 2026'!$A$2:$A$216,0)))
H16: =IF($B16="","",INDEX('Pauschalen 2026'!$D$2:$D$216,MATCH($B16,'Pauschalen 2026'!$A$2:$A$216,0))) | I16: =IF($B16="","",INDEX('Pauschalen 2026'!$E$2:$E$216,MATCH($B16,'Pauschalen 2026'!$A$2:$A$216,0))) | J16: =IF(OR($B16="",$C16=""),0,IF($C16="voller Tag (24 Std.)",H16,IF(OR($C16="Anreisetag",$C16="Rückreisetag",$C16="eintägig über 8 Std."),I16,0))) | K16: =IF(J16=0,0,MIN(J16,(LOWER(D16)="x")*0.2*H16+(LOWER(E16)="x")*0.4*H16+(LOWER(F16)="x")*0.4*H16)) | L16: =J16-K16 | M16: =IF(OR($B16="",LOWER(G16)<>"x",$C16="privat (Bleisure)"),0,INDEX('Pauschalen 2026'!$F$2:$F$216,MATCH($B16,'Pauschalen 2026'!$A$2:$A$216,0)))
H17: =IF($B17="","",INDEX('Pauschalen 2026'!$D$2:$D$216,MATCH($B17,'Pauschalen 2026'!$A$2:$A$216,0))) | I17: =IF($B17="","",INDEX('Pauschalen 2026'!$E$2:$E$216,MATCH($B17,'Pauschalen 2026'!$A$2:$A$216,0))) | J17: =IF(OR($B17="",$C17=""),0,IF($C17="voller Tag (24 Std.)",H17,IF(OR($C17="Anreisetag",$C17="Rückreisetag",$C17="eintägig über 8 Std."),I17,0))) | K17: =IF(J17=0,0,MIN(J17,(LOWER(D17)="x")*0.2*H17+(LOWER(E17)="x")*0.4*H17+(LOWER(F17)="x")*0.4*H17)) | L17: =J17-K17 | M17: =IF(OR($B17="",LOWER(G17)<>"x",$C17="privat (Bleisure)"),0,INDEX('Pauschalen 2026'!$F$2:$F$216,MATCH($B17,'Pauschalen 2026'!$A$2:$A$216,0)))
H18: =IF($B18="","",INDEX('Pauschalen 2026'!$D$2:$D$216,MATCH($B18,'Pauschalen 2026'!$A$2:$A$216,0))) | I18: =IF($B18="","",INDEX('Pauschalen 2026'!$E$2:$E$216,MATCH($B18,'Pauschalen 2026'!$A$2:$A$216,0))) | J18: =IF(OR($B18="",$C18=""),0,IF($C18="voller Tag (24 Std.)",H18,IF(OR($C18="Anreisetag",$C18="Rückreisetag",$C18="eintägig über 8 Std."),I18,0))) | K18: =IF(J18=0,0,MIN(J18,(LOWER(D18)="x")*0.2*H18+(LOWER(E18)="x")*0.4*H18+(LOWER(F18)="x")*0.4*H18)) | L18: =J18-K18 | M18: =IF(OR($B18="",LOWER(G18)<>"x",$C18="privat (Bleisure)"),0,INDEX('Pauschalen 2026'!$F$2:$F$216,MATCH($B18,'Pauschalen 2026'!$A$2:$A$216,0)))
H19: =IF($B19="","",INDEX('Pauschalen 2026'!$D$2:$D$216,MATCH($B19,'Pauschalen 2026'!$A$2:$A$216,0))) | I19: =IF($B19="","",INDEX('Pauschalen 2026'!$E$2:$E$216,MATCH($B19,'Pauschalen 2026'!$A$2:$A$216,0))) | J19: =IF(OR($B19="",$C19=""),0,IF($C19="voller Tag (24 Std.)",H19,IF(OR($C19="Anreisetag",$C19="Rückreisetag",$C19="eintägig über 8 Std."),I19,0))) | K19: =IF(J19=0,0,MIN(J19,(LOWER(D19)="x")*0.2*H19+(LOWER(E19)="x")*0.4*H19+(LOWER(F19)="x")*0.4*H19)) | L19: =J19-K19 | M19: =IF(OR($B19="",LOWER(G19)<>"x",$C19="privat (Bleisure)"),0,INDEX('Pauschalen 2026'!$F$2:$F$216,MATCH($B19,'Pauschalen 2026'!$A$2:$A$216,0)))
H20: =IF($B20="","",INDEX('Pauschalen 2026'!$D$2:$D$216,MATCH($B20,'Pauschalen 2026'!$A$2:$A$216,0))) | I20: =IF($B20="","",INDEX('Pauschalen 2026'!$E$2:$E$216,MATCH($B20,'Pauschalen 2026'!$A$2:$A$216,0))) | J20: =IF(OR($B20="",$C20=""),0,IF($C20="voller Tag (24 Std.)",H20,IF(OR($C20="Anreisetag",$C20="Rückreisetag",$C20="eintägig über 8 Std."),I20,0))) | K20: =IF(J20=0,0,MIN(J20,(LOWER(D20)="x")*0.2*H20+(LOWER(E20)="x")*0.4*H20+(LOWER(F20)="x")*0.4*H20)) | L20: =J20-K20 | M20: =IF(OR($B20="",LOWER(G20)<>"x",$C20="privat (Bleisure)"),0,INDEX('Pauschalen 2026'!$F$2:$F$216,MATCH($B20,'Pauschalen 2026'!$A$2:$A$216,0)))
H21: =IF($B21="","",INDEX('Pauschalen 2026'!$D$2:$D$216,MATCH($B21,'Pauschalen 2026'!$A$2:$A$216,0))) | I21: =IF($B21="","",INDEX('Pauschalen 2026'!$E$2:$E$216,MATCH($B21,'Pauschalen 2026'!$A$2:$A$216,0))) | J21: =IF(OR($B21="",$C21=""),0,IF($C21="voller Tag (24 Std.)",H21,IF(OR($C21="Anreisetag",$C21="Rückreisetag",$C21="eintägig über 8 Std."),I21,0))) | K21: =IF(J21=0,0,MIN(J21,(LOWER(D21)="x")*0.2*H21+(LOWER(E21)="x")*0.4*H21+(LOWER(F21)="x")*0.4*H21)) | L21: =J21-K21 | M21: =IF(OR($B21="",LOWER(G21)<>"x",$C21="privat (Bleisure)"),0,INDEX('Pauschalen 2026'!$F$2:$F$216,MATCH($B21,'Pauschalen 2026'!$A$2:$A$216,0)))
H22: =IF($B22="","",INDEX('Pauschalen 2026'!$D$2:$D$216,MATCH($B22,'Pauschalen 2026'!$A$2:$A$216,0))) | I22: =IF($B22="","",INDEX('Pauschalen 2026'!$E$2:$E$216,MATCH($B22,'Pauschalen 2026'!$A$2:$A$216,0))) | J22: =IF(OR($B22="",$C22=""),0,IF($C22="voller Tag (24 Std.)",H22,IF(OR($C22="Anreisetag",$C22="Rückreisetag",$C22="eintägig über 8 Std."),I22,0))) | K22: =IF(J22=0,0,MIN(J22,(LOWER(D22)="x")*0.2*H22+(LOWER(E22)="x")*0.4*H22+(LOWER(F22)="x")*0.4*H22)) | L22: =J22-K22 | M22: =IF(OR($B22="",LOWER(G22)<>"x",$C22="privat (Bleisure)"),0,INDEX('Pauschalen 2026'!$F$2:$F$216,MATCH($B22,'Pauschalen 2026'!$A$2:$A$216,0)))
H23: =IF($B23="","",INDEX('Pauschalen 2026'!$D$2:$D$216,MATCH($B23,'Pauschalen 2026'!$A$2:$A$216,0))) | I23: =IF($B23="","",INDEX('Pauschalen 2026'!$E$2:$E$216,MATCH($B23,'Pauschalen 2026'!$A$2:$A$216,0))) | J23: =IF(OR($B23="",$C23=""),0,IF($C23="voller Tag (24 Std.)",H23,IF(OR($C23="Anreisetag",$C23="Rückreisetag",$C23="eintägig über 8 Std."),I23,0))) | K23: =IF(J23=0,0,MIN(J23,(LOWER(D23)="x")*0.2*H23+(LOWER(E23)="x")*0.4*H23+(LOWER(F23)="x")*0.4*H23)) | L23: =J23-K23 | M23: =IF(OR($B23="",LOWER(G23)<>"x",$C23="privat (Bleisure)"),0,INDEX('Pauschalen 2026'!$F$2:$F$216,MATCH($B23,'Pauschalen 2026'!$A$2:$A$216,0)))
H24: =IF($B24="","",INDEX('Pauschalen 2026'!$D$2:$D$216,MATCH($B24,'Pauschalen 2026'!$A$2:$A$216,0))) | I24: =IF($B24="","",INDEX('Pauschalen 2026'!$E$2:$E$216,MATCH($B24,'Pauschalen 2026'!$A$2:$A$216,0))) | J24: =IF(OR($B24="",$C24=""),0,IF($C24="voller Tag (24 Std.)",H24,IF(OR($C24="Anreisetag",$C24="Rückreisetag",$C24="eintägig über 8 Std."),I24,0))) | K24: =IF(J24=0,0,MIN(J24,(LOWER(D24)="x")*0.2*H24+(LOWER(E24)="x")*0.4*H24+(LOWER(F24)="x")*0.4*H24)) | L24: =J24-K24 | M24: =IF(OR($B24="",LOWER(G24)<>"x",$C24="privat (Bleisure)"),0,INDEX('Pauschalen 2026'!$F$2:$F$216,MATCH($B24,'Pauschalen 2026'!$A$2:$A$216,0)))
H25: =IF($B25="","",INDEX('Pauschalen 2026'!$D$2:$D$216,MATCH($B25,'Pauschalen 2026'!$A$2:$A$216,0))) | I25: =IF($B25="","",INDEX('Pauschalen 2026'!$E$2:$E$216,MATCH($B25,'Pauschalen 2026'!$A$2:$A$216,0))) | J25: =IF(OR($B25="",$C25=""),0,IF($C25="voller Tag (24 Std.)",H25,IF(OR($C25="Anreisetag",$C25="Rückreisetag",$C25="eintägig über 8 Std."),I25,0))) | K25: =IF(J25=0,0,MIN(J25,(LOWER(D25)="x")*0.2*H25+(LOWER(E25)="x")*0.4*H25+(LOWER(F25)="x")*0.4*H25)) | L25: =J25-K25 | M25: =IF(OR($B25="",LOWER(G25)<>"x",$C25="privat (Bleisure)"),0,INDEX('Pauschalen 2026'!$F$2:$F$216,MATCH($B25,'Pauschalen 2026'!$A$2:$A$216,0)))
... H43: =IF($B43="","",INDEX('Pauschalen 2026'!$D$2:$D$216,MATCH($B43,'Pauschalen 2026'!$A$2:$A$216,0))) | I43: =IF($B43="","",INDEX('Pauschalen 2026'!$E$2:$E$216,MATCH($B43,'Pauschalen 2026'!$A$2:$A$216,0))) | J43: =IF(OR($B43="",$C43=""),0,IF($C43="voller Tag (24 Std.)",H43,IF(OR($C43="Anreisetag",$C43="Rückreisetag",$C43="eintägig über 8 Std."),I43,0))) | K43: =IF(J43=0,0,MIN(J43,(LOWER(D43)="x")*0.2*H43+(LOWER(E43)="x")*0.4*H43+(LOWER(F43)="x")*0.4*H43)) | L43: =J43-K43 | M43: =IF(OR($B43="",LOWER(G43)<>"x",$C43="privat (Bleisure)"),0,INDEX('Pauschalen 2026'!$F$2:$F$216,MATCH($B43,'Pauschalen 2026'!$A$2:$A$216,0)))
A44: Summe Tage | J44: =SUM(J13:J43) | K44: =SUM(K13:K43) | L44: =SUM(L13:L43) | M44: =SUM(M13:M43)
A46: Zusammenfassung
A47: Verpflegungsmehraufwand | B47: =L44
A48: Übernachtung (Pauschale) – nur wenn keine Hotelrechnung | B48: =M44
A49: Gefahrene Kilometer mit eigenem Pkw | B49: 0 | C49: Kilometersatz 0,30 € (§ 9 Abs. 1 Satz 3 Nr. 4a EStG); andere motorisierte Fahrzeuge 0,20 €.
A50: Fahrtkosten (0,30 € je km) | B50: =B49*0.3
A51: Belege geschäftlich (Blatt „Belege“) | B51: =SUM(Belege!K5:K104)
A52: Gesamt | B52: =B47+B48+B50+B51
A53: abzüglich Vorschuss | B53: 0
A54: Auszahlung | B54: =B52-B53
A57: Ort, Datum, Unterschrift Reisende/r: ______________________________
A59: Sachlich richtig / genehmigt: ______________________________
A61: Kürzung: 20 % (Frühstück) bzw. 40 % (Mittag-/Abendessen) des 24-Stunden-Satzes, wenn die Mahlzeit vom Arbeitgeber oder auf seine Veranlassung gestellt wird. Private Tage erhalten keine Pauschale. Erstellt mit triporyx.de.

Sheet Belege
A1: Belege
A2: Gelbe Felder ausfüllen. Kurs = Euro je Einheit der Fremdwährung (z. B. 0,13 für 1 CNY) oder Betrag laut Kartenabrechnung direkt in Spalte E mit Währung EUR.
A4: Nr. | B4: Datum | C4: Art | D4: Beschreibung (bei Bewirtung: Anlass, Teilnehmer) | E4: Betrag | F4: Währung | G4: Kurs (€ je Einheit) | H4: Betrag € | I4: Zuordnung | J4: Anteil geschäftlich bei „gemischt“ | K4: geschäftlich €
A5: 1 | B5: =DATE(2026,11,16) | C5: Taxi/ÖPNV | D5: Taxi Flughafen – Hotel (Beispiel, überschreiben) | E5: 180 | F5: CNY | G5: 0.13 | H5: =IF(E5="",0,IF(OR(F5="EUR",F5=""),E5,E5*G5)) | I5: geschäftlich | J5: 1 | K5: =IF(I5="privat",0,IF(I5="gemischt",H5*J5,H5))
A6: 2 | H6: =IF(E6="",0,IF(OR(F6="EUR",F6=""),E6,E6*G6)) | K6: =IF(I6="privat",0,IF(I6="gemischt",H6*J6,H6))
A7: 3 | H7: =IF(E7="",0,IF(OR(F7="EUR",F7=""),E7,E7*G7)) | K7: =IF(I7="privat",0,IF(I7="gemischt",H7*J7,H7))
A8: 4 | H8: =IF(E8="",0,IF(OR(F8="EUR",F8=""),E8,E8*G8)) | K8: =IF(I8="privat",0,IF(I8="gemischt",H8*J8,H8))
A9: 5 | H9: =IF(E9="",0,IF(OR(F9="EUR",F9=""),E9,E9*G9)) | K9: =IF(I9="privat",0,IF(I9="gemischt",H9*J9,H9))
A10: 6 | H10: =IF(E10="",0,IF(OR(F10="EUR",F10=""),E10,E10*G10)) | K10: =IF(I10="privat",0,IF(I10="gemischt",H10*J10,H10))
A11: 7 | H11: =IF(E11="",0,IF(OR(F11="EUR",F11=""),E11,E11*G11)) | K11: =IF(I11="privat",0,IF(I11="gemischt",H11*J11,H11))
A12: 8 | H12: =IF(E12="",0,IF(OR(F12="EUR",F12=""),E12,E12*G12)) | K12: =IF(I12="privat",0,IF(I12="gemischt",H12*J12,H12))
A13: 9 | H13: =IF(E13="",0,IF(OR(F13="EUR",F13=""),E13,E13*G13)) | K13: =IF(I13="privat",0,IF(I13="gemischt",H13*J13,H13))
A14: 10 | H14: =IF(E14="",0,IF(OR(F14="EUR",F14=""),E14,E14*G14)) | K14: =IF(I14="privat",0,IF(I14="gemischt",H14*J14,H14))
A15: 11 | H15: =IF(E15="",0,IF(OR(F15="EUR",F15=""),E15,E15*G15)) | K15: =IF(I15="privat",0,IF(I15="gemischt",H15*J15,H15))
A16: 12 | H16: =IF(E16="",0,IF(OR(F16="EUR",F16=""),E16,E16*G16)) | K16: =IF(I16="privat",0,IF(I16="gemischt",H16*J16,H16))
A17: 13 | H17: =IF(E17="",0,IF(OR(F17="EUR",F17=""),E17,E17*G17)) | K17: =IF(I17="privat",0,IF(I17="gemischt",H17*J17,H17))
... A104: 100 | H104: =IF(E104="",0,IF(OR(F104="EUR",F104=""),E104,E104*G104)) | K104: =IF(I104="privat",0,IF(I104="gemischt",H104*J104,H104))
J106: Summe | K106: =SUM(K5:K104)
A108: „gemischt“: Kosten, die geschäftliche und private Tage betreffen (z. B. Flug bei Bleisure). Anteil = Geschäftstage ÷ (Geschäftstage + private Tage). Rechner: triporyx.de/bleisure/

Sheet Pauschalen 2026
A1: Ort (Auswahl) | B1: Land | C1: Ort | D1: Pauschale 24 Std. (€) | E1: An-/Abreisetag, > 8 Std. (€) | F1: Übernachtung (€)
A2: Deutschland | B2: Deutschland | D2: 28 | E2: 14 | F2: 20
A3: Ägypten | B3: Ägypten | D3: 50 | E3: 33 | F3: 112
A4: Äquatorialguinea | B4: Äquatorialguinea | D4: 42 | E4: 28 | F4: 166
A5: Äthiopien | B5: Äthiopien | D5: 44 | E5: 29 | F5: 159
A6: Albanien | B6: Albanien | D6: 33 | E6: 22 | F6: 116
A7: Algerien | B7: Algerien | D7: 47 | E7: 32 | F7: 120
A8: Andorra | B8: Andorra | D8: 45 | E8: 30 | F8: 135
A9: Angola | B9: Angola | D9: 40 | E9: 27 | F9: 368
A10: Argentinien | B10: Argentinien | D10: 42 | E10: 28 | F10: 119
A11: Armenien | B11: Armenien | D11: 29 | E11: 20 | F11: 107
A12: Aserbaidschan | B12: Aserbaidschan | D12: 44 | E12: 29 | F12: 88
A13: Australien (übrige Orte) | B13: Australien | D13: 57 | E13: 38 | F13: 173
A14: Australien – Canberra | B14: Australien | C14: Canberra | D14: 74 | E14: 49 | F14: 186
A15: Australien – Sydney | B15: Australien | C15: Sydney | D15: 57 | E15: 38 | F15: 173
A16: Bahrain | B16: Bahrain | D16: 48 | E16: 32 | F16: 153
A17: Bangladesch | B17: Bangladesch | D17: 46 | E17: 31 | F17: 189
A18: Barbados | B18: Barbados | D18: 54 | E18: 36 | F18: 206
A19: Belgien | B19: Belgien | D19: 59 | E19: 40 | F19: 141
A20: Benin | B20: Benin | D20: 40 | E20: 27 | F20: 168
A21: Bhutan | B21: Bhutan | D21: 27 | E21: 18 | F21: 176
A22: Bolivien | B22: Bolivien | D22: 46 | E22: 31 | F22: 108
A23: Bosnien und Herzegowina | B23: Bosnien und Herzegowina | D23: 32 | E23: 21 | F23: 109
A24: Botsuana | B24: Botsuana | D24: 40 | E24: 27 | F24: 105
A25: Brasilien (übrige Orte) | B25: Brasilien | D25: 46 | E25: 31 | F25: 88
A26: Brasilien – Brasilia | B26: Brasilien | C26: Brasilia | D26: 51 | E26: 34 | F26: 88
A27: Brasilien – Rio de Janeiro | B27: Brasilien | C27: Rio de Janeiro | D27: 69 | E27: 46 | F27: 140
A28: Brasilien – Sao Paulo | B28: Brasilien | C28: Sao Paulo | D28: 46 | E28: 31 | F28: 151
A29: Brunei | B29: Brunei | D29: 45 | E29: 30 | F29: 110
A30: Bulgarien | B30: Bulgarien | D30: 38 | E30: 25 | F30: 109
A31: Burkina Faso | B31: Burkina Faso | D31: 39 | E31: 26 | F31: 230
A32: Burundi | B32: Burundi | D32: 58 | E32: 39 | F32: 102
A33: Chile | B33: Chile | D33: 44 | E33: 29 | F33: 154
A34: China (übrige Orte) | B34: China | D34: 48 | E34: 32 | F34: 142
A35: China – Hongkong | B35: China | C35: Hongkong | D35: 83 | E35: 56 | F35: 209
A36: China – Peking | B36: China | C36: Peking | D36: 57 | E36: 38 | F36: 184
A37: China – Shanghai | B37: China | C37: Shanghai | D37: 48 | E37: 32 | F37: 142
A38: Costa Rica | B38: Costa Rica | D38: 60 | E38: 40 | F38: 127
A39: Côte d’Ivoire | B39: Côte d’Ivoire | D39: 60 | E39: 40 | F39: 171
A40: Dänemark | B40: Dänemark | D40: 75 | E40: 50 | F40: 183
A41: Dominikanische Republik | B41: Dominikanische Republik | D41: 50 | E41: 33 | F41: 167
A42: Dschibuti | B42: Dschibuti | D42: 77 | E42: 52 | F42: 255
A43: Ecuador | B43: Ecuador | D43: 27 | E43: 18 | F43: 103
A44: El Salvador | B44: El Salvador | D44: 65 | E44: 44 | F44: 161
A45: Eritrea | B45: Eritrea | D45: 46 | E45: 31 | F45: 78
A46: Estland | B46: Estland | D46: 39 | E46: 26 | F46: 125
A47: Fidschi | B47: Fidschi | D47: 32 | E47: 21 | F47: 183
A48: Finnland | B48: Finnland | D48: 54 | E48: 36 | F48: 171
A49: Frankreich (übrige Orte) | B49: Frankreich | D49: 53 | E49: 36 | F49: 105
A50: Frankreich – Paris sowie die Departments 77, 78, 91 bis 95 | B50: Frankreich | C50: Paris sowie die Departments 77, 78, 91 bis 95 | D50: 58 | E50: 39 | F50: 159
A51: Gabun | B51: Gabun | D51: 64 | E51: 43 | F51: 263
A52: Gambia | B52: Gambia | D52: 40 | E52: 27 | F52: 161
A53: Georgien | B53: Georgien | D53: 45 | E53: 30 | F53: 87
A54: Ghana | B54: Ghana | D54: 46 | E54: 31 | F54: 203
A55: Griechenland (übrige Orte) | B55: Griechenland | D55: 36 | E55: 24 | F55: 150
A56: Griechenland – Athen | B56: Griechenland | C56: Athen | D56: 40 | E56: 27 | F56: 139
A57: Guatemala | B57: Guatemala | D57: 46 | E57: 31 | F57: 124
A58: Guinea | B58: Guinea | D58: 59 | E58: 40 | F58: 140
A59: Guinea-Bissau | B59: Guinea-Bissau | D59: 32 | E59: 21 | F59: 113
A60: Honduras | B60: Honduras | D60: 57 | E60: 38 | F60: 198
A61: Indien (übrige Orte) | B61: Indien | D61: 22 | E61: 15 | F61: 80
A62: Indien – Bangalore | B62: Indien | C62: Bangalore | D62: 42 | E62: 28 | F62: 155
A63: Indien – Chennai | B63: Indien | C63: Chennai | D63: 22 | E63: 15 | F63: 80
A64: Indien – Kalkutta | B64: Indien | C64: Kalkutta | D64: 32 | E64: 21 | F64: 167
A65: Indien – Mumbai | B65: Indien | C65: Mumbai | D65: 53 | E65: 36 | F65: 218
A66: Indien – Neu Delhi | B66: Indien | C66: Neu Delhi | D66: 46 | E66: 31 | F66: 211
A67: Indonesien | B67: Indonesien | D67: 45 | E67: 30 | F67: 179
A68: Iran | B68: Iran | D68: 33 | E68: 22 | F68: 196
A69: Irland | B69: Irland | D69: 64 | E69: 43 | F69: 164
A70: Island | B70: Island | D70: 62 | E70: 41 | F70: 187
A71: Israel | B71: Israel | D71: 59 | E71: 40 | F71: 268
A72: Italien (übrige Orte) | B72: Italien | D72: 42 | E72: 28 | F72: 150
A73: Italien – Mailand | B73: Italien | C73: Mailand | D73: 42 | E73: 28 | F73: 191
A74: Italien – Rom | B74: Italien | C74: Rom | D74: 48 | E74: 32 | F74: 150
A75: Jamaika | B75: Jamaika | D75: 39 | E75: 26 | F75: 171
A76: Japan (übrige Orte) | B76: Japan | D76: 33 | E76: 22 | F76: 141
A77: Japan – Osaka | B77: Japan | C77: Osaka | D77: 33 | E77: 22 | F77: 141
A78: Japan – Tokio | B78: Japan | C78: Tokio | D78: 50 | E78: 33 | F78: 285
A79: Jordanien | B79: Jordanien | D79: 57 | E79: 38 | F79: 134
A80: Kambodscha | B80: Kambodscha | D80: 42 | E80: 28 | F80: 108
A81: Kamerun | B81: Kamerun | D81: 56 | E81: 37 | F81: 275
A82: Kanada (übrige Orte) | B82: Kanada | D82: 54 | E82: 36 | F82: 214
A83: Kanada – Ottawa | B83: Kanada | C83: Ottawa | D83: 62 | E83: 41 | F83: 214
A84: Kanada – Toronto | B84: Kanada | C84: Toronto | D84: 54 | E84: 36 | F84: 392
A85: Kanada – Vancouver | B85: Kanada | C85: Vancouver | D85: 63 | E85: 42 | F85: 304
A86: Kap Verde | B86: Kap Verde | D86: 38 | E86: 25 | F86: 90
A87: Kasachstan | B87: Kasachstan | D87: 33 | E87: 22 | F87: 108
A88: Katar | B88: Katar | D88: 81 | E88: 54 | F88: 128
A89: Kenia | B89: Kenia | D89: 48 | E89: 32 | F89: 217
A90: Kirgisistan | B90: Kirgisistan | D90: 35 | E90: 24 | F90: 80
A91: Kolumbien | B91: Kolumbien | D91: 34 | E91: 23 | F91: 123
A92: Kongo, Demokratische Republik | B92: Kongo, Demokratische Republik | D92: 65 | E92: 44 | F92: 337
A93: Kongo, Republik | B93: Kongo, Republik | D93: 53 | E93: 36 | F93: 215
A94: Korea, Republik | B94: Korea, Republik | D94: 39 | E94: 26 | F94: 130
A95: Kosovo | B95: Kosovo | D95: 24 | E95: 16 | F95: 71
A96: Kroatien | B96: Kroatien | D96: 46 | E96: 31 | F96: 191
A97: Kuba | B97: Kuba | D97: 51 | E97: 34 | F97: 170
... A142: Polen (übrige Orte) | B142: Polen | D142: 34 | E142: 23 | F142: 124
A143: Polen – Breslau | B143: Polen | C143: Breslau | D143: 34 | E143: 23 | F143: 124
A144: Polen – Warschau | B144: Polen | C144: Warschau | D144: 40 | E144: 27 | F144: 143
...

Sheet Hinweise
A1: Reisekostenabrechnung 2026 – Hinweise
A3: 1. Kopfdaten im Blatt „Abrechnung“ ausfüllen.
A4: 2. Je Reisetag eine Zeile: Datum, Ort aus der Liste, Art des Tages. Erster und letzter Tag einer mehrtägigen Reise sind An- bzw. Rückreisetag.
A5: 3. Vom Arbeitgeber oder auf seine Veranlassung gestellte Mahlzeiten (z. B. Hotelfrühstück auf Firmenrechnung) mit „x“ markieren – die Kürzung rechnet die Tabelle. Einladungen durch Kunden kürzen nicht.
A6: 4. Übernachtungspauschale nur ankreuzen, wenn keine Hotelrechnung abgerechnet wird. Für Selbstständige gilt sie nicht.
A7: 5. Belege im Blatt „Belege“ eintragen; Fremdwährung mit Kurs oder direkt in Euro laut Kartenabrechnung.
A8: 6. Private Tage (Bleisure) als „privat (Bleisure)“ wählen: keine Pauschale. Gemischte Kosten anteilig zuordnen.
A10: Pauschalen: BMF-Schreiben vom 5. Dezember 2025 – Reisekosten bei Auslandsreisen ab 1. Januar 2026 (IV C 5 - S 2353/00094/007/012, BStBl I 2025 S. 2078).
A11: Inland: 28 € (24 Std.), 14 € (An-/Abreisetag, eintägig über 8 Std.), Übernachtung 20 € (§ 9 Abs. 4a EStG).
A12: Allgemeine Information, keine Steuerberatung. Online-Version mit Belegfotos und Bleisure-Rechner: https://triporyx.de/reise/
